BEGIN:VCALENDAR
VERSION:2.0
PRODID:-//Maroon Town - ECPv6.8.3//NONSGML v1.0//EN
CALSCALE:GREGORIAN
METHOD:PUBLISH
X-WR-CALNAME:Maroon Town
X-ORIGINAL-URL:https://maroon-town.co.uk
X-WR-CALDESC:Events for Maroon Town
REFRESH-INTERVAL;VALUE=DURATION:PT1H
X-Robots-Tag:noindex
X-PUBLISHED-TTL:PT1H
BEGIN:VTIMEZONE
TZID:UTC
BEGIN:STANDARD
TZOFFSETFROM:+0000
TZOFFSETTO:+0000
TZNAME:UTC
DTSTART:20240101T000000
END:STANDARD
END:VTIMEZONE
BEGIN:VEVENT
DTSTART;TZID=UTC:20241213T080000
DTEND;TZID=UTC:20241213T170000
DTSTAMP:20260421T180825
CREATED:20241213T114844Z
LAST-MODIFIED:20250718T095212Z
UID:340-1734076800-1734109200@maroon-town.co.uk
SUMMARY:Holland tour March 19-23 2025 March to perform songs from High & Dry
DESCRIPTION:Maroon Town will be on tour in Holland in March 2025 to perform songs from their first releases including the album High and Dry which was produced by John Bradbury of the Specials. \n20 March’25: Hilversum\, De Vorstin\, With Faya & DJ’s\n21 March’25: Arnhem\, Willmeen\, With Faya& DJ’s\n22 March’25: Den Haag\, De Zwarte Ruiter\, Only you but I’ll be there to help you guys\n23 March’25: Hoofddorp\, C Punt\, With Faya & DJ’s
URL:https://maroon-town.co.uk/event/holland-tour-march-19-23-2025-march-to-perform-songs-from-high-dry/
ATTACH;FMTTYPE=image/jpeg:https://maroon-town.co.uk/wp-content/uploads/2024/12/Arnhem.jpeg
END:VEVENT
END:VCALENDAR