BEGIN:VCALENDAR
VERSION:2.0
PRODID:-//Maroon Town - ECPv6.8.3//NONSGML v1.0//EN
CALSCALE:GREGORIAN
METHOD:PUBLISH
X-ORIGINAL-URL:https://maroon-town.co.uk
X-WR-CALDESC:Events for Maroon Town
REFRESH-INTERVAL;VALUE=DURATION:PT1H
X-Robots-Tag:noindex
X-PUBLISHED-TTL:PT1H
BEGIN:VTIMEZONE
TZID:UTC
BEGIN:STANDARD
TZOFFSETFROM:+0000
TZOFFSETTO:+0000
TZNAME:UTC
DTSTART:20250101T000000
END:STANDARD
END:VTIMEZONE
BEGIN:VEVENT
DTSTART;TZID=UTC:20250530T200000
DTEND;TZID=UTC:20250531T020000
DTSTAMP:20260421T060208
CREATED:20250528T110551Z
LAST-MODIFIED:20250528T110551Z
UID:374-1748635200-1748656800@maroon-town.co.uk
SUMMARY:Qulture Music presents Maroon Town
DESCRIPTION:A night of ska\, soul\, reggae\, house & rhythm. \nAlso Manny Martey\, ABM Collective \nFriday 30th May 8pm – 2am \nat Rolling Stock\, Shoreditch\, London E2 8DA \nBuy Tickets: £15 \n 
URL:https://maroon-town.co.uk/event/qulture-music-presents-maroon-town/
LOCATION:Rolling Stock\, 48 Kingsland Rd\,\, London\, London\, E2 8DA
CATEGORIES:Community
END:VEVENT
END:VCALENDAR