BEGIN:VCALENDAR
VERSION:2.0
PRODID:-//Maroon Town - ECPv6.8.3//NONSGML v1.0//EN
CALSCALE:GREGORIAN
METHOD:PUBLISH
X-WR-CALNAME:Maroon Town
X-ORIGINAL-URL:https://maroon-town.co.uk
X-WR-CALDESC:Events for Maroon Town
REFRESH-INTERVAL;VALUE=DURATION:PT1H
X-Robots-Tag:noindex
X-PUBLISHED-TTL:PT1H
BEGIN:VTIMEZONE
TZID:UTC
BEGIN:STANDARD
TZOFFSETFROM:+0000
TZOFFSETTO:+0000
TZNAME:UTC
DTSTART:20250101T000000
END:STANDARD
END:VTIMEZONE
BEGIN:VEVENT
DTSTART;TZID=UTC:20250905T190000
DTEND;TZID=UTC:20250905T230000
DTSTAMP:20260421T020333
CREATED:20250717T172922Z
LAST-MODIFIED:20250718T095541Z
UID:382-1757098800-1757113200@maroon-town.co.uk
SUMMARY:Maroon Town Live at the Bedford in Balham Friday 5th September
DESCRIPTION:  \n \n  \nQulture Qurates – “A Night of Ska Boheme” featuring Maroon Town \n\n\n \nQulture Qurates a one-of-a-kind night that celebrates the bohemian spirit where creative freedom\, self-expression\, and community take centre stage. \n\n\n \nHeadlining the night is Maroon Town\, the iconic 8-piece band known for their explosive blend of ska\, reggae\, rap\, funk\, and Latin grooves. Their sound has taken them across the globe—from Europe to Japan and South America spreading high-energy and showcasing that bohemian spirit we love. \n\n\n \nExpect: \n\n\n \n\nLive music that moves you\n\n\n\nA space that welcomes expression and connection\n\n\n\nGood vibes\, dancing\, and something truly different\n\n\n\n \nAlso featuring a DJ and special guest support act TBA! Leave your expectations at the door—Qulture is calling you to experience the night as only true bohemians do: unfiltered\, united\, and alive. \n \nGet tickets: https://www.eventbrite.co.uk/e/qulture-qurates-a-night-of-ska-boheme-featuring-maroon-town-tickets-1472840659059?aff=oddtdtcreator
URL:https://maroon-town.co.uk/event/maroon-town-live-at-the-bedford-in-balham-friday-5th-september/
LOCATION:The Bedford\, 77 Bedford Hill\, Balham\, London\, SW12 9HD\, United Kingdom
CATEGORIES:Community,Festival
END:VEVENT
END:VCALENDAR