BEGIN:VCALENDAR
VERSION:2.0
PRODID:-//Maroon Town - ECPv6.8.3//NONSGML v1.0//EN
CALSCALE:GREGORIAN
METHOD:PUBLISH
X-WR-CALNAME:Maroon Town
X-ORIGINAL-URL:https://maroon-town.co.uk
X-WR-CALDESC:Events for Maroon Town
REFRESH-INTERVAL;VALUE=DURATION:PT1H
X-Robots-Tag:noindex
X-PUBLISHED-TTL:PT1H
BEGIN:VTIMEZONE
TZID:UTC
BEGIN:STANDARD
TZOFFSETFROM:+0000
TZOFFSETTO:+0000
TZNAME:UTC
DTSTART:20240101T000000
END:STANDARD
END:VTIMEZONE
BEGIN:VEVENT
DTSTART;TZID=UTC:20240615T160000
DTEND;TZID=UTC:20240615T170000
DTSTAMP:20260421T235314
CREATED:20240502T112755Z
LAST-MODIFIED:20250718T095115Z
UID:209-1718467200-1718470800@maroon-town.co.uk
SUMMARY:Maroon Town will be one of the headliners at The Great Exhibition Road Festival
DESCRIPTION:On Saturday 15th June Maroon Town will be one of the headliners at The Great Exhibition Road Festival which  is curated by the Royal Albert Hall \nThe main stage is hosted by Portobello Radio and features world class acts from Royal Albert Hall and Royal College of Music. Maroon Town will be one of the headliners and performing at 3.45pm \nExpect amazing music with DJs from Portobello Radio and Kids on the Green in between every act. The programme showcases a variety of music including big brass bands\, swing\, blues\, jazz\, funk\, RnB\, rock and Motown! Put on your dancing shoes and get ready to groove with us at this year’s Main Stage! \nhttps://www.greatexhibitionroadfestival.co.uk/event/main-stage/?backto=whats-on
URL:https://maroon-town.co.uk/event/maroon-town-will-be-one-of-the-headliners-at-the-great-exhibition-road-festival/
LOCATION:Exhibition Road\, London\, SW7
ATTACH;FMTTYPE=image/jpeg:https://maroon-town.co.uk/wp-content/uploads/2024/04/maroon_town_facebook_head_03.jpg
END:VEVENT
END:VCALENDAR